BEGIN:VCALENDAR
VERSION:2.0
BEGIN:VEVENT
SUMMARY:Spirithoods Sample Sale
DESCRIPTION:Don't miss the Spirithoods Sample Sale! Shop exclusive deals online.
LOCATION:https://www.spirithoods.com
DTSTART:20250612T170000Z
DTEND:20250615T065900Z
END:VEVENT
END:VCALENDAR
