BEGIN:VCALENDAR
VERSION:2.0
PRODID:-//ical.marudot.com//iCal Event Maker
CALSCALE:GREGORIAN
BEGIN:VTIMEZONE
TZID:America/Los_Angeles
LAST-MODIFIED:20240422T053451Z
TZURL:https://www.tzurl.org/zoneinfo-outlook/America/Los_Angeles
X-LIC-LOCATION:America/Los_Angeles
BEGIN:DAYLIGHT
TZNAME:PDT
TZOFFSETFROM:-0800
TZOFFSETTO:-0700
DTSTART:19700308T020000
RRULE:FREQ=YEARLY;BYMONTH=3;BYDAY=2SU
END:DAYLIGHT
BEGIN:STANDARD
TZNAME:PST
TZOFFSETFROM:-0700
TZOFFSETTO:-0800
DTSTART:19701101T020000
RRULE:FREQ=YEARLY;BYMONTH=11;BYDAY=1SU
END:STANDARD
END:VTIMEZONE
BEGIN:VEVENT
DTSTAMP:20250624T201051Z
UID:1750451117984-78216@ical.marudot.com
DTSTART;TZID=America/Los_Angeles:20250626T120000
DTEND;TZID=America/Los_Angeles:20250626T140000
SUMMARY:HAIRtamin TikTok Live!
DESCRIPTION:Join us for our very first TikTok Live! https://www.tiktok.com/@hairtamin
TRANSP:TRANSPARENT
X-MICROSOFT-CDO-BUSYSTATUS:FREE
CLASS:PUBLIC
BEGIN:VALARM
ACTION:DISPLAY
DESCRIPTION:HAIRtamin TikTok Live!
TRIGGER:-PT0M
END:VALARM
BEGIN:VALARM
ACTION:DISPLAY
DESCRIPTION:HAIRtamin TikTok Live!
TRIGGER:-PT1H
END:VALARM
END:VEVENT
END:VCALENDAR